BEGIN:VCALENDAR
VERSION:2.0
PRODID:-//Les Cerqueux - ECPv6.15.11//NONSGML v1.0//EN
CALSCALE:GREGORIAN
METHOD:PUBLISH
X-WR-CALNAME:Les Cerqueux
X-ORIGINAL-URL:https://www.lescerqueux.fr
X-WR-CALDESC:Évènements pour Les Cerqueux
REFRESH-INTERVAL;VALUE=DURATION:PT1H
X-Robots-Tag:noindex
X-PUBLISHED-TTL:PT1H
BEGIN:VTIMEZONE
TZID:Europe/Paris
BEGIN:DAYLIGHT
TZOFFSETFROM:+0100
TZOFFSETTO:+0200
TZNAME:CEST
DTSTART:20250330T010000
END:DAYLIGHT
BEGIN:STANDARD
TZOFFSETFROM:+0200
TZOFFSETTO:+0100
TZNAME:CET
DTSTART:20251026T010000
END:STANDARD
BEGIN:DAYLIGHT
TZOFFSETFROM:+0100
TZOFFSETTO:+0200
TZNAME:CEST
DTSTART:20260329T010000
END:DAYLIGHT
BEGIN:STANDARD
TZOFFSETFROM:+0200
TZOFFSETTO:+0100
TZNAME:CET
DTSTART:20261025T010000
END:STANDARD
BEGIN:DAYLIGHT
TZOFFSETFROM:+0100
TZOFFSETTO:+0200
TZNAME:CEST
DTSTART:20270328T010000
END:DAYLIGHT
BEGIN:STANDARD
TZOFFSETFROM:+0200
TZOFFSETTO:+0100
TZNAME:CET
DTSTART:20271031T010000
END:STANDARD
END:VTIMEZONE
BEGIN:VEVENT
DTSTART;TZID=Europe/Paris:20260306T080000
DTEND;TZID=Europe/Paris:20260425T170000
DTSTAMP:20260422T020641
CREATED:20260210T083109Z
LAST-MODIFIED:20260210T083109Z
UID:3700-1772784000-1777136400@www.lescerqueux.fr
SUMMARY:Broyage de vos branchages
DESCRIPTION:A3_commune_broyage_vegetaux_printemps_2026_V6 \nA3_commune_broyage_vegetaux_printemps_2026_V6 024_BROYAGE PRINTEMPS 2026_POUR LES COMMUNES
URL:https://www.lescerqueux.fr/evenement/broyage-de-vos-branchages-2/
ATTACH;FMTTYPE=application/pdf:https://www.lescerqueux.fr/wp-content/uploads/2026/02/A3_commune_broyage_vegetaux_printemps_2026_V6-1.pdf
END:VEVENT
END:VCALENDAR