BEGIN:VCALENDAR
VERSION:2.0
PRODID:-//Les Cerqueux - ECPv6.15.11//NONSGML v1.0//EN
CALSCALE:GREGORIAN
METHOD:PUBLISH
X-ORIGINAL-URL:https://www.lescerqueux.fr
X-WR-CALDESC:Évènements pour Les Cerqueux
REFRESH-INTERVAL;VALUE=DURATION:PT1H
X-Robots-Tag:noindex
X-PUBLISHED-TTL:PT1H
BEGIN:VTIMEZONE
TZID:Europe/Paris
BEGIN:DAYLIGHT
TZOFFSETFROM:+0100
TZOFFSETTO:+0200
TZNAME:CEST
DTSTART:20250330T010000
END:DAYLIGHT
BEGIN:STANDARD
TZOFFSETFROM:+0200
TZOFFSETTO:+0100
TZNAME:CET
DTSTART:20251026T010000
END:STANDARD
BEGIN:DAYLIGHT
TZOFFSETFROM:+0100
TZOFFSETTO:+0200
TZNAME:CEST
DTSTART:20260329T010000
END:DAYLIGHT
BEGIN:STANDARD
TZOFFSETFROM:+0200
TZOFFSETTO:+0100
TZNAME:CET
DTSTART:20261025T010000
END:STANDARD
BEGIN:DAYLIGHT
TZOFFSETFROM:+0100
TZOFFSETTO:+0200
TZNAME:CEST
DTSTART:20270328T010000
END:DAYLIGHT
BEGIN:STANDARD
TZOFFSETFROM:+0200
TZOFFSETTO:+0100
TZNAME:CET
DTSTART:20271031T010000
END:STANDARD
END:VTIMEZONE
BEGIN:VEVENT
DTSTART;TZID=Europe/Paris:20260306T193000
DTEND;TZID=Europe/Paris:20260306T233000
DTSTAMP:20260421T174826
CREATED:20260220T130519Z
LAST-MODIFIED:20260220T130519Z
UID:3715-1772825400-1772839800@www.lescerqueux.fr
SUMMARY:Concours de Palets - CLAC
DESCRIPTION:
URL:https://www.lescerqueux.fr/evenement/concours-de-palets-clac/
LOCATION:Salle du Cormier\, 22 rue Amand Michaud\, LES CERQUEUX\, 49360
CATEGORIES:Concours de palets
ATTACH;FMTTYPE=image/png:https://www.lescerqueux.fr/wp-content/uploads/2026/02/Palet-CLAC.png
ORGANIZER;CN="CLAC %3A Foyer des jeunes":MAILTO:foyerdesjeunesclac@outlook.fr
END:VEVENT
END:VCALENDAR