BEGIN:VCALENDAR
VERSION:2.0
PRODID:-//Les Cerqueux - ECPv6.15.11//NONSGML v1.0//EN
CALSCALE:GREGORIAN
METHOD:PUBLISH
X-WR-CALNAME:Les Cerqueux
X-ORIGINAL-URL:https://www.lescerqueux.fr
X-WR-CALDESC:Évènements pour Les Cerqueux
REFRESH-INTERVAL;VALUE=DURATION:PT1H
X-Robots-Tag:noindex
X-PUBLISHED-TTL:PT1H
BEGIN:VTIMEZONE
TZID:Europe/Paris
BEGIN:DAYLIGHT
TZOFFSETFROM:+0100
TZOFFSETTO:+0200
TZNAME:CEST
DTSTART:20240331T010000
END:DAYLIGHT
BEGIN:STANDARD
TZOFFSETFROM:+0200
TZOFFSETTO:+0100
TZNAME:CET
DTSTART:20241027T010000
END:STANDARD
BEGIN:DAYLIGHT
TZOFFSETFROM:+0100
TZOFFSETTO:+0200
TZNAME:CEST
DTSTART:20250330T010000
END:DAYLIGHT
BEGIN:STANDARD
TZOFFSETFROM:+0200
TZOFFSETTO:+0100
TZNAME:CET
DTSTART:20251026T010000
END:STANDARD
BEGIN:DAYLIGHT
TZOFFSETFROM:+0100
TZOFFSETTO:+0200
TZNAME:CEST
DTSTART:20260329T010000
END:DAYLIGHT
BEGIN:STANDARD
TZOFFSETFROM:+0200
TZOFFSETTO:+0100
TZNAME:CET
DTSTART:20261025T010000
END:STANDARD
END:VTIMEZONE
BEGIN:VEVENT
DTSTART;TZID=Europe/Paris:20251017T190000
DTEND;TZID=Europe/Paris:20251017T233000
DTSTAMP:20260422T021106
CREATED:20251007T120539Z
LAST-MODIFIED:20251007T120539Z
UID:3549-1760727600-1760743800@www.lescerqueux.fr
SUMMARY:Concours de Palets
DESCRIPTION:
URL:https://www.lescerqueux.fr/evenement/concours-de-palets-4/
LOCATION:Salle du Cormier\, 22 rue Amand Michaud\, LES CERQUEUX\, 49360
CATEGORIES:Concours de palets
ATTACH;FMTTYPE=image/webp:https://www.lescerqueux.fr/wp-content/uploads/2025/10/PALAITONA7_D2.webp
END:VEVENT
END:VCALENDAR