BEGIN:VCALENDAR
VERSION:2.0
PRODID:-//Les Cerqueux - ECPv6.15.11//NONSGML v1.0//EN
CALSCALE:GREGORIAN
METHOD:PUBLISH
X-WR-CALNAME:Les Cerqueux
X-ORIGINAL-URL:https://www.lescerqueux.fr
X-WR-CALDESC:Évènements pour Les Cerqueux
REFRESH-INTERVAL;VALUE=DURATION:PT1H
X-Robots-Tag:noindex
X-PUBLISHED-TTL:PT1H
BEGIN:VTIMEZONE
TZID:Europe/Paris
BEGIN:DAYLIGHT
TZOFFSETFROM:+0100
TZOFFSETTO:+0200
TZNAME:CEST
DTSTART:20240331T010000
END:DAYLIGHT
BEGIN:STANDARD
TZOFFSETFROM:+0200
TZOFFSETTO:+0100
TZNAME:CET
DTSTART:20241027T010000
END:STANDARD
BEGIN:DAYLIGHT
TZOFFSETFROM:+0100
TZOFFSETTO:+0200
TZNAME:CEST
DTSTART:20250330T010000
END:DAYLIGHT
BEGIN:STANDARD
TZOFFSETFROM:+0200
TZOFFSETTO:+0100
TZNAME:CET
DTSTART:20251026T010000
END:STANDARD
BEGIN:DAYLIGHT
TZOFFSETFROM:+0100
TZOFFSETTO:+0200
TZNAME:CEST
DTSTART:20260329T010000
END:DAYLIGHT
BEGIN:STANDARD
TZOFFSETFROM:+0200
TZOFFSETTO:+0100
TZNAME:CET
DTSTART:20261025T010000
END:STANDARD
END:VTIMEZONE
BEGIN:VEVENT
DTSTART;TZID=Europe/Paris:20250903T100000
DTEND;TZID=Europe/Paris:20250903T120000
DTSTAMP:20260422T165407
CREATED:20250901T133312Z
LAST-MODIFIED:20250901T133637Z
UID:3429-1756893600-1756900800@www.lescerqueux.fr
SUMMARY:Liquidation Association "la Gaule Cerquoise"
DESCRIPTION:SKM_C300i25090115240
URL:https://www.lescerqueux.fr/evenement/liquidation-association-la-gaule-cerquoise/
LOCATION:La P’tite Marmite\, LES CERQUEUX\, 49360
CATEGORIES:Loisirs
ATTACH;FMTTYPE=image/png:https://www.lescerqueux.fr/wp-content/uploads/2025/09/Liquidation-peche-1.png
END:VEVENT
BEGIN:VEVENT
DTSTART;TZID=Europe/Paris:20250905T180000
DTEND;TZID=Europe/Paris:20250905T200000
DTSTAMP:20260422T165407
CREATED:20250901T133602Z
LAST-MODIFIED:20250901T133602Z
UID:3434-1757095200-1757102400@www.lescerqueux.fr
SUMMARY:Liquidation Association "la Gaule Cerquoise"
DESCRIPTION:SKM_C300i25090115240
URL:https://www.lescerqueux.fr/evenement/liquidation-association-la-gaule-cerquoise-2/
LOCATION:La P’tite Marmite\, LES CERQUEUX\, 49360
CATEGORIES:Loisirs
ATTACH;FMTTYPE=image/png:https://www.lescerqueux.fr/wp-content/uploads/2025/09/Liquidation-peche-1.png
END:VEVENT
BEGIN:VEVENT
DTSTART;TZID=Europe/Paris:20250905T190000
DTEND;TZID=Europe/Paris:20250905T233000
DTSTAMP:20260422T165407
CREATED:20250825T123158Z
LAST-MODIFIED:20250825T123412Z
UID:3416-1757098800-1757115000@www.lescerqueux.fr
SUMMARY:La Guinguette du Comité
DESCRIPTION:Guinguette CDF
URL:https://www.lescerqueux.fr/evenement/la-guinguette-du-comite/
LOCATION:Étang du Cormier\, LES CERQUEUX\, 49360\, France
CATEGORIES:Loisirs
ATTACH;FMTTYPE=image/jpeg:https://www.lescerqueux.fr/wp-content/uploads/2025/08/SKM_C300i25082514310-scaled.jpg
END:VEVENT
BEGIN:VEVENT
DTSTART;TZID=Europe/Paris:20250906T100000
DTEND;TZID=Europe/Paris:20250906T120000
DTSTAMP:20260422T165407
CREATED:20250901T133725Z
LAST-MODIFIED:20250901T133725Z
UID:3437-1757152800-1757160000@www.lescerqueux.fr
SUMMARY:Liquidation Association "la Gaule Cerquoise"
DESCRIPTION:SKM_C300i25090115240
URL:https://www.lescerqueux.fr/evenement/liquidation-association-la-gaule-cerquoise-3/
LOCATION:Local Familles Rurales\, 3 rue du Sacré Coeur\, LES CERQUEUX\, 49360
CATEGORIES:Loisirs
ATTACH;FMTTYPE=image/png:https://www.lescerqueux.fr/wp-content/uploads/2025/09/Liquidation-peche-1.png
END:VEVENT
BEGIN:VEVENT
DTSTART;TZID=Europe/Paris:20250907T080000
DTEND;TZID=Europe/Paris:20250907T100000
DTSTAMP:20260422T165407
CREATED:20250825T142039Z
LAST-MODIFIED:20250825T142039Z
UID:3420-1757232000-1757239200@www.lescerqueux.fr
SUMMARY:Rando de la rentrée
DESCRIPTION:
URL:https://www.lescerqueux.fr/evenement/rando-de-la-rentree/
LOCATION:Parc de la mairie\, Rue du Bocage\, LA PLAINE\, 49360
CATEGORIES:Loisirs
ATTACH;FMTTYPE=image/jpeg:https://www.lescerqueux.fr/wp-content/uploads/2025/08/Rando-de-la-rentree.jpg
ORGANIZER;CN="Famille Rurales La Plaine":MAILTO:fr.laplaine49@gmail.com
END:VEVENT
END:VCALENDAR