BEGIN:VCALENDAR
VERSION:2.0
PRODID:-//Les Cerqueux - ECPv6.15.11//NONSGML v1.0//EN
CALSCALE:GREGORIAN
METHOD:PUBLISH
X-ORIGINAL-URL:https://www.lescerqueux.fr
X-WR-CALDESC:Évènements pour Les Cerqueux
REFRESH-INTERVAL;VALUE=DURATION:PT1H
X-Robots-Tag:noindex
X-PUBLISHED-TTL:PT1H
BEGIN:VTIMEZONE
TZID:Europe/Paris
BEGIN:DAYLIGHT
TZOFFSETFROM:+0100
TZOFFSETTO:+0200
TZNAME:CEST
DTSTART:20250330T010000
END:DAYLIGHT
BEGIN:STANDARD
TZOFFSETFROM:+0200
TZOFFSETTO:+0100
TZNAME:CET
DTSTART:20251026T010000
END:STANDARD
BEGIN:DAYLIGHT
TZOFFSETFROM:+0100
TZOFFSETTO:+0200
TZNAME:CEST
DTSTART:20260329T010000
END:DAYLIGHT
BEGIN:STANDARD
TZOFFSETFROM:+0200
TZOFFSETTO:+0100
TZNAME:CET
DTSTART:20261025T010000
END:STANDARD
BEGIN:DAYLIGHT
TZOFFSETFROM:+0100
TZOFFSETTO:+0200
TZNAME:CEST
DTSTART:20270328T010000
END:DAYLIGHT
BEGIN:STANDARD
TZOFFSETFROM:+0200
TZOFFSETTO:+0100
TZNAME:CET
DTSTART:20271031T010000
END:STANDARD
END:VTIMEZONE
BEGIN:VEVENT
DTSTART;TZID=Europe/Paris:20260510T080000
DTEND;TZID=Europe/Paris:20260510T100000
DTSTAMP:20260422T091649
CREATED:20260220T131132Z
LAST-MODIFIED:20260220T131132Z
UID:3722-1778400000-1778407200@www.lescerqueux.fr
SUMMARY:Rando de la Brioche et du poulet à la Portugaise
DESCRIPTION:affiche CAV
URL:https://www.lescerqueux.fr/evenement/rando-de-la-brioche-et-du-poulet-a-la-portugaise/
LOCATION:Salle du Cormier\, 22 rue Amand Michaud\, LES CERQUEUX\, 49360
CATEGORIES:Loisirs
ATTACH;FMTTYPE=application/pdf:https://www.lescerqueux.fr/wp-content/uploads/2026/02/affiche-CAV-1-1.pdf
END:VEVENT
END:VCALENDAR